BEGIN:VCALENDAR
PRODID:-//punkave//apostrophe 1.x//EN
VERSION:1.0
TZ:0
BEGIN:VEVENT
CATEGORIES:MEETING
DTSTART:20160324T040000Z
DTEND:20160326T165959Z
DTSTAMP:20150617T174700Z
SUMMARY:Kindergarten Lunch Around the World: Italy
DESCRIPTION:K students should not bring lunch this day!
LOCATION:
UID:2440
END:VEVENT
END:VCALENDAR