BEGIN:VCALENDAR
PRODID:-//punkave//apostrophe 1.x//EN
VERSION:1.0
TZ:0
BEGIN:VEVENT
CATEGORIES:MEETING
DTSTART:20160328T040000Z
DTEND:20160403T165959Z
DTSTAMP:20150617T174847Z
SUMMARY:Spring Break: SCHOOL CLOSED
DESCRIPTION:ADM in Session.
LOCATION:
UID:2441
END:VEVENT
END:VCALENDAR