BEGIN:VCALENDAR
PRODID:-//punkave//apostrophe 1.x//EN
VERSION:1.0
TZ:0
BEGIN:VEVENT
CATEGORIES:MEETING
DTSTART:20160401T040000Z
DTEND:20160403T165959Z
DTSTAMP:20150617T175300Z
SUMMARY:Primary ADM Parent/Teacher Conferences
DESCRIPTION:This date is in addition to April 8 and 15.
LOCATION:
UID:2442
END:VEVENT
END:VCALENDAR