BEGIN:VCALENDAR
PRODID:-//punkave//apostrophe 1.x//EN
VERSION:1.0
TZ:0
BEGIN:VEVENT
CATEGORIES:MEETING
DTSTART:20160406T040000Z
DTEND:20160408T165959Z
DTSTAMP:20150617T180000Z
SUMMARY:Toddler ADM Parent/Teacher Conferences
DESCRIPTION:This date is in addition to April 8 and 15.
LOCATION:
UID:2445
END:VEVENT
END:VCALENDAR