BEGIN:VCALENDAR
PRODID:-//punkave//apostrophe 1.x//EN
VERSION:1.0
TZ:0
BEGIN:VEVENT
CATEGORIES:MEETING
DTSTART:20160407T121500Z
DTEND:20160407T130000Z
DTSTAMP:20150713T144300Z
SUMMARY:First Thursday Coffee: Nutrition
DESCRIPTION:
LOCATION:
UID:2491
END:VEVENT
END:VCALENDAR