BEGIN:VCALENDAR
PRODID:-//punkave//apostrophe 1.x//EN
VERSION:1.0
TZ:0
BEGIN:VEVENT
CATEGORIES:MEETING
DTSTART:20160415T040000Z
DTEND:20160417T165959Z
DTSTAMP:20150617T180300Z
SUMMARY:Parent/Teacher Conferences: SCHOOL CLOSED
DESCRIPTION:ADM in session. Child care provided during conference time.
LOCATION:
UID:2447
END:VEVENT
END:VCALENDAR