BEGIN:VCALENDAR
PRODID:-//punkave//apostrophe 1.x//EN
VERSION:1.0
TZ:0
BEGIN:VEVENT
CATEGORIES:MEETING
DTSTART:20160421T040000Z
DTEND:20160423T165959Z
DTSTAMP:20150617T180700Z
SUMMARY:Kindergarten Lunch Around the World: Mexico
DESCRIPTION:K students do not need to pack a lunch this day!
LOCATION:
UID:2448
END:VEVENT
END:VCALENDAR