BEGIN:VCALENDAR
PRODID:-//punkave//apostrophe 1.x//EN
VERSION:1.0
TZ:0
BEGIN:VEVENT
CATEGORIES:MEETING
DTSTART:20160422T154500Z
DTEND:20160422T154500Z
DTSTAMP:20150617T181540Z
SUMMARY:Staff In-Service: DISMISSAL at 11:45
DESCRIPTION:ADM in session.
LOCATION:
UID:2449
END:VEVENT
END:VCALENDAR