BEGIN:VCALENDAR
PRODID:-//punkave//apostrophe 1.x//EN
VERSION:1.0
TZ:0
BEGIN:VEVENT
CATEGORIES:MEETING
DTSTART:20160425T040000Z
DTEND:20160501T165959Z
DTSTAMP:20150617T181741Z
SUMMARY:GTMS Earth Week
DESCRIPTION:
LOCATION:
UID:2450
END:VEVENT
END:VCALENDAR