BEGIN:VCALENDAR
PRODID:-//punkave//apostrophe 1.x//EN
VERSION:1.0
TZ:0
BEGIN:VEVENT
CATEGORIES:MEETING
DTSTART:20160502T040000Z
DTEND:20160508T165959Z
DTSTAMP:20150805T142700Z
SUMMARY:Screen Free Week
DESCRIPTION:
LOCATION:
UID:2513
END:VEVENT
END:VCALENDAR