BEGIN:VCALENDAR
PRODID:-//punkave//apostrophe 1.x//EN
VERSION:1.0
TZ:0
BEGIN:VEVENT
CATEGORIES:MEETING
DTSTART:20160503T121500Z
DTEND:20160503T130000Z
DTSTAMP:20150617T184517Z
SUMMARY:Next Year\'s Kindergarten Parents Orientation
DESCRIPTION:Orientation Coffee for next year\'s K parents.
LOCATION:
UID:2451
END:VEVENT
END:VCALENDAR