BEGIN:VCALENDAR
PRODID:-//punkave//apostrophe 1.x//EN
VERSION:1.0
TZ:0
BEGIN:VEVENT
CATEGORIES:MEETING
DTSTART:20160504T230000Z
DTEND:20160505T003000Z
DTSTAMP:20150617T184900Z
SUMMARY:Parent Workshop: Discipline Made Easy
DESCRIPTION:
LOCATION:
UID:2452
END:VEVENT
END:VCALENDAR