BEGIN:VCALENDAR
PRODID:-//punkave//apostrophe 1.x//EN
VERSION:1.0
TZ:0
BEGIN:VEVENT
CATEGORIES:MEETING
DTSTART:20160506T040000Z
DTEND:20160508T165959Z
DTSTAMP:20150617T185600Z
SUMMARY:Grandparents and Special Friends Day
DESCRIPTION:This is a primary only event. Invitations and RSVPs/Change of Dismissals will be sent out. Held at both the East and West building.
LOCATION:
UID:2453
END:VEVENT
END:VCALENDAR