BEGIN:VCALENDAR
PRODID:-//punkave//apostrophe 1.x//EN
VERSION:1.0
TZ:0
BEGIN:VEVENT
CATEGORIES:MEETING
DTSTART:20160512T220000Z
DTEND:20160512T233000Z
DTSTAMP:20150617T185800Z
SUMMARY:New Parent Social
DESCRIPTION:
LOCATION:
UID:2454
END:VEVENT
END:VCALENDAR