BEGIN:VCALENDAR
PRODID:-//punkave//apostrophe 1.x//EN
VERSION:1.0
TZ:0
BEGIN:VEVENT
CATEGORIES:MEETING
DTSTART:20160514T150000Z
DTEND:20160514T180000Z
DTSTAMP:20150617T190100Z
SUMMARY:Spring Family Picnic
DESCRIPTION:Lemon Hill Picnic Area #4 Directions: From Center City: West on Kelly Drive, turn right on Sedgely, then hard left onto Lemon Hill Drive. Park just behind the Mansion!
LOCATION:
UID:2455
END:VEVENT
END:VCALENDAR