BEGIN:VCALENDAR
PRODID:-//punkave//apostrophe 1.x//EN
VERSION:1.0
TZ:0
BEGIN:VEVENT
CATEGORIES:MEETING
DTSTART:20160517T121500Z
DTEND:20160517T130000Z
DTSTAMP:20150617T191134Z
SUMMARY:ADM Toddler to Primary Coffee with Neepa Dhar
DESCRIPTION:Coffee for ADM toddler parents with Neepa Dhar. Held at the West building.
LOCATION:
UID:2456
END:VEVENT
END:VCALENDAR