BEGIN:VCALENDAR
PRODID:-//punkave//apostrophe 1.x//EN
VERSION:1.0
TZ:0
BEGIN:VEVENT
CATEGORIES:MEETING
DTSTART:20160519T210000Z
DTEND:20160519T230000Z
DTSTAMP:20150617T191533Z
SUMMARY:Board/Staff Party
DESCRIPTION:ADM DISMISSAL at 5:00 pm
LOCATION:
UID:2457
END:VEVENT
END:VCALENDAR