BEGIN:VCALENDAR
PRODID:-//punkave//apostrophe 1.x//EN
VERSION:1.0
TZ:0
BEGIN:VEVENT
CATEGORIES:MEETING
DTSTART:20160521T150000Z
DTEND:20160521T180000Z
DTSTAMP:20150617T191757Z
SUMMARY:Picnic Rain Date
DESCRIPTION:
LOCATION:
UID:2458
END:VEVENT
END:VCALENDAR