BEGIN:VCALENDAR
PRODID:-//punkave//apostrophe 1.x//EN
VERSION:1.0
TZ:0
BEGIN:VEVENT
CATEGORIES:MEETING
DTSTART:20160526T153000Z
DTEND:20160526T163000Z
DTSTAMP:20150617T191900Z
SUMMARY:K Lunch Around the World: Armenia
DESCRIPTION:K students should not bring lunch this day!
LOCATION:
UID:2459
END:VEVENT
END:VCALENDAR