BEGIN:VCALENDAR
PRODID:-//punkave//apostrophe 1.x//EN
VERSION:1.0
TZ:0
BEGIN:VEVENT
CATEGORIES:MEETING
DTSTART:20160527T040000Z
DTEND:20160529T165959Z
DTSTAMP:20150617T193000Z
SUMMARY:Staff In-Service: 11:45 Dismissal/Crazy Hair Day!
DESCRIPTION:Don\'t forget your crazy hair!!! ADM in session.
LOCATION:
UID:2460
END:VEVENT
END:VCALENDAR