BEGIN:VCALENDAR
PRODID:-//punkave//apostrophe 1.x//EN
VERSION:1.0
TZ:0
BEGIN:VEVENT
CATEGORIES:MEETING
DTSTART:20160530T040000Z
DTEND:20160601T165959Z
DTSTAMP:20150617T193550Z
SUMMARY:Memorial Day: SCHOOL CLOSED
DESCRIPTION:School and ADM closed.
LOCATION:
UID:2461
END:VEVENT
END:VCALENDAR