BEGIN:VCALENDAR
PRODID:-//punkave//apostrophe 1.x//EN
VERSION:1.0
TZ:0
BEGIN:VEVENT
CATEGORIES:MEETING
DTSTART:20160601T040000Z
DTEND:20160605T165959Z
DTSTAMP:20150617T194020Z
SUMMARY:Kindergarten Lemonade and Bake Sale
DESCRIPTION:The Kindergarten students will be having a lemonade stand/bake sale at the 11:45 and 2:45 dismissals on 6/1 and 6/2, and the 2:45 dismissal on 6/3.
LOCATION:
UID:2462
END:VEVENT
END:VCALENDAR