BEGIN:VCALENDAR
PRODID:-//punkave//apostrophe 1.x//EN
VERSION:1.0
TZ:0
BEGIN:VEVENT
CATEGORIES:MEETING
DTSTART:20160608T213000Z
DTEND:20160608T223000Z
DTSTAMP:20150617T194345Z
SUMMARY:Toddle House Ice Cream Social
DESCRIPTION:For GTMS Toddler Families!
LOCATION:
UID:2464
END:VEVENT
END:VCALENDAR