BEGIN:VCALENDAR
PRODID:-//punkave//apostrophe 1.x//EN
VERSION:1.0
TZ:0
BEGIN:VEVENT
CATEGORIES:MEETING
DTSTART:20160610T040000Z
DTEND:20160612T165959Z
DTSTAMP:20150618T183900Z
SUMMARY:Last Day of School: 10:30am STAGGERED DISMISSAL
DESCRIPTION:Friday, June 10 is the official last day of the standard school year calendar. All students will be dismissed between 10:30am and 10:45am. If parents wish to stop by and say goodbye to their teacher in person, they can do that between 10:15-10:30am and pick up their child from the classroom (Toddlers can be picked up from the courtyard.) 10:15-10:30 Parents pick up 3’s, 4’s, and 5’s from classrooms. Families can say goodbye to their teachers. Toddler families can pick up in the courtyard and say goodbye to teachers there. 10:30-10:45 Toddler House dismissal from Courtyard 10:30-10:45 All 3 to 5-year-olds not picked up from the classroom will wait for parents in respective lobby (east/west) Kindergarten students will be accompanied to Moore College of Art by Greene Towne staff 11:00 ALL BUILDINGS CLOSE 11:15 Kindergarten Families arrive at Moore College auditorium 11:30 Kindergarten Performance for Kindergarten Families Noon-12:30 Reception for Kindergarten Families
LOCATION:
UID:2468
END:VEVENT
END:VCALENDAR