BEGIN:VCALENDAR
PRODID:-//punkave//apostrophe 1.x//EN
VERSION:1.0
TZ:0
BEGIN:VEVENT
CATEGORIES:MEETING
DTSTART:20160613T040000Z
DTEND:20160619T165959Z
DTSTAMP:20150617T195147Z
SUMMARY:Bridge Camp
DESCRIPTION:
LOCATION:Sesame Place
UID:2465
END:VEVENT
END:VCALENDAR