BEGIN:VCALENDAR
PRODID:-//punkave//apostrophe 1.x//EN
VERSION:1.0
TZ:0
BEGIN:VEVENT
CATEGORIES:MEETING
DTSTART:20160617T040000Z
DTEND:20160619T165959Z
DTSTAMP:20150618T183700Z
SUMMARY:GTMS Family Day at Sesame Place
DESCRIPTION:
LOCATION:
UID:2467
END:VEVENT
END:VCALENDAR