BEGIN:VCALENDAR
PRODID:-//punkave//apostrophe 1.x//EN
VERSION:1.0
TZ:0
BEGIN:VEVENT
CATEGORIES:MEETING
DTSTART:20160812T040000Z
DTEND:20160814T165959Z
DTSTAMP:20150618T184431Z
SUMMARY:Last Day of Camp
DESCRIPTION:
LOCATION:
UID:2473
END:VEVENT
END:VCALENDAR