BEGIN:VCALENDAR
PRODID:-//punkave//apostrophe 1.x//EN
VERSION:1.0
TZ:0
BEGIN:VEVENT
CATEGORIES:MEETING
DTSTART:20160815T040000Z
DTEND:20160828T165959Z
DTSTAMP:20150618T184523Z
SUMMARY:ADM Bridge Camp
DESCRIPTION:
LOCATION:
UID:2474
END:VEVENT
END:VCALENDAR