BEGIN:VCALENDAR
PRODID:-//punkave//apostrophe 1.x//EN
VERSION:1.0
TZ:0
BEGIN:VEVENT
CATEGORIES:MEETING
DTSTART:20160829T040000Z
DTEND:20160904T165959Z
DTSTAMP:20150618T184705Z
SUMMARY:Staff In-Service: SCHOOL CLOSED
DESCRIPTION:ADM CLOSED
LOCATION:
UID:2475
END:VEVENT
END:VCALENDAR